BEGIN:VCALENDAR
VERSION:2.0
PRODID:-//wp-events-plugin.com//7.2.3.1//EN
TZID:Europe/Zurich
X-WR-TIMEZONE:Europe/Zurich
BEGIN:VEVENT
UID:44@historischerverein-sh.ch
DTSTART;TZID=Europe/Zurich:20270414T000000
DTEND;TZID=Europe/Zurich:20270418T000000
DTSTAMP:20260330T174448Z
URL:https://historischerverein-sh.ch/veranstaltungen/weimar-kulturstadt-eu
 ropas/
SUMMARY:Exkursion: Weimar – Kulturstadt Europas
DESCRIPTION:Weimar\, die bedeutsame und charmante Residenzstadt in der Mitt
 e Europas. Von hier aus traten Ideen und Kunstwerke ihren Weg in die Welt 
 an. Heute schwingen die grossen Namen der Vergangenheit immer mit: Goethe 
 und Schiller. Bach\, Liszt und Gropius.\nGrosszügige Parklandschaften\, o
 ffene Plätze und kleine Gassen\, die Dichterhäuser\, Museen und Schlöss
 er – europäische Kulturgeschichte auf engstem Raum versammelt und von d
 er UNESCO mit dem Welterbetitel ausgezeichnet.\n\nDie Reise beginnt mit de
 m Mittagessen und einem Streifzug durch die Altstadt von Würzburg.\n\nAls
  Unterkunft für die 4 Nächte\, ist im zentral gelegenen «Grand Hotel Ru
 ssischer Hof» in Weimar vorgesehen.\n\nAm zweiten Tag steht am Vormittag 
 eine Stadtführung durch Weimar auf dem Programm. Am Nachmittag sowie am V
 ormittag des vierten Tages können die Teilnehmenden aus verschiedenen The
 menführungen wählen\, etwa zum Bauhaus\, zur Weimarer Republik als Gebur
 tsort der Demokratie\, zu bedeutenden Frauen aus Weimar\, zu den literaris
 chen Schauplätzen von Goethe und Schiller oder zu den Wirkungsstätten vo
 n Liszt\, Bach und Hummel.\n\nDer dritte Tag führt nach Erfurt\, wo eine 
 klassische Stadtführung angeboten wird. Der Nachmittag steht zur freien V
 erfügung. Auch am vierten Tag ist der Nachmittag frei gestaltbar\, beispi
 elsweise für Museumsbesuche oder einen Spaziergang im Park.\n\nAm letzten
  Tag erfolgt die Heimreise mit einer Führung auf der Wartburg bei Eisenac
 h und einem abschließenden Mittagessen in Schweinfurt.\n\nDie offizielle 
 Ausschreibung wird Ende Oktober 2026 publiziert.\n\nIhre Reiseleiter Thoma
 s Jaquet &amp\; Alfred Bachmann
CATEGORIES:Exkursion
END:VEVENT
BEGIN:VTIMEZONE
TZID:Europe/Zurich
X-LIC-LOCATION:Europe/Zurich
BEGIN:DAYLIGHT
DTSTART:20270328T030000
TZOFFSETFROM:+0100
TZOFFSETTO:+0200
TZNAME:CEST
END:DAYLIGHT
END:VTIMEZONE
END:VCALENDAR