BEGIN:VCALENDAR
VERSION:2.0
PRODID:-//wp-events-plugin.com//7.2.3.1//EN
TZID:Europe/Zurich
X-WR-TIMEZONE:Europe/Zurich
BEGIN:VEVENT
UID:35@historischerverein-sh.ch
DTSTART;TZID=Europe/Zurich;VALUE=DATE:20260414
DTEND;TZID=Europe/Zurich;VALUE=DATE:20260421
DTSTAMP:20251112T204148Z
URL:https://historischerverein-sh.ch/veranstaltungen/2026-04-14_20/
SUMMARY:Exkursion: Bordeaux – Wo Geschichte\, Genuss und Moderne verschme
 lzen
DESCRIPTION:Kurzbeschreibung/Highlights:\nOper von Vichy\, Grotte von Lasca
 ux\, St. Emillion\, Altstadt von Bordeaux\, Gironde &amp\; Atlantik\, Alts
 tadt von Lyon\n\nDas detaillierte Programm entnehmen Sie bitte der nachfol
 genden Datei: HV_SH_2025_2026_Ausschreibung_Bordeaux\n\nZur Optimierung un
 serer Vorbereitungen bitten wir alle Interessenten um eine Rückmeldung\, 
 ob sie teilnehmen werden\; dies ist ab sofort möglich an den Quästor Tho
 mas Jaquet\, Speerstrasse 1\, 8200 Schaffhausen oder per E-Mail an tjaquet
 @shinternet.ch.
CATEGORIES:Exkursion
END:VEVENT
BEGIN:VTIMEZONE
TZID:Europe/Zurich
X-LIC-LOCATION:Europe/Zurich
BEGIN:DAYLIGHT
DTSTART:20260329T030000
TZOFFSETFROM:+0100
TZOFFSETTO:+0200
TZNAME:CEST
END:DAYLIGHT
END:VTIMEZONE
END:VCALENDAR