BEGIN:VCALENDAR
VERSION:2.0
PRODID:-//wp-events-plugin.com//7.2.3.1//EN
TZID:Europe/Zurich
X-WR-TIMEZONE:Europe/Zurich
BEGIN:VEVENT
UID:41@historischerverein-sh.ch
DTSTART;TZID=Europe/Zurich:20260318T200000
DTEND;TZID=Europe/Zurich:20260318T213000
DTSTAMP:20251013T083049Z
URL:https://historischerverein-sh.ch/veranstaltungen/2026-03-18_vortrag/
SUMMARY:Vortrag: Unerhört – Die Geschichte der ersten Bundespolitikerinn
 en
DESCRIPTION:Vortrag von Dr. Fabienne Amlinger\, Universität Bern
CATEGORIES:Vortrag
LOCATION:Rathauslaube\, Rathausbogen 10\, 8200 Schaffhausen\, Schweiz
X-APPLE-STRUCTURED-LOCATION;VALUE=URI;X-ADDRESS=Rathausbogen 10\, Schaffhau
 sen\, 8200\, Schweiz;X-APPLE-RADIUS=100;X-TITLE=Rathauslaube:geo:0,0
END:VEVENT
BEGIN:VTIMEZONE
TZID:Europe/Zurich
X-LIC-LOCATION:Europe/Zurich
BEGIN:STANDARD
DTSTART:20251026T020000
TZOFFSETFROM:+0200
TZOFFSETTO:+0100
TZNAME:CET
END:STANDARD
END:VTIMEZONE
END:VCALENDAR