BEGIN:VCALENDAR
VERSION:2.0
PRODID:-//wp-events-plugin.com//7.2.3.1//EN
TZID:Europe/Zurich
X-WR-TIMEZONE:Europe/Zurich
BEGIN:VEVENT
UID:42@historischerverein-sh.ch
DTSTART;TZID=Europe/Zurich:20251130T120000
DTEND;TZID=Europe/Zurich:20251130T140000
DTSTAMP:20251023T083439Z
URL:https://historischerverein-sh.ch/veranstaltungen/2025-11-30/
SUMMARY:Vernissage: Vernissage Schaffhauser Beiträge Band 97 «Schaffhause
 r Migrationsgeschichte seit dem Zweiten Weltkrieg»
DESCRIPTION:
CATEGORIES:Vernissage
LOCATION:Rathauslaube\, Rathausbogen 10\, 8200 Schaffhausen\, Schweiz
X-APPLE-STRUCTURED-LOCATION;VALUE=URI;X-ADDRESS=Rathausbogen 10\, Schaffhau
 sen\, 8200\, Schweiz;X-APPLE-RADIUS=100;X-TITLE=Rathauslaube:geo:0,0
END:VEVENT
BEGIN:VTIMEZONE
TZID:Europe/Zurich
X-LIC-LOCATION:Europe/Zurich
BEGIN:STANDARD
DTSTART:20251026T020000
TZOFFSETFROM:+0200
TZOFFSETTO:+0100
TZNAME:CET
END:STANDARD
END:VTIMEZONE
END:VCALENDAR