BEGIN:VCALENDAR
VERSION:2.0
PRODID:-//wp-events-plugin.com//7.2.3.1//EN
TZID:Europe/Zurich
X-WR-TIMEZONE:Europe/Zurich
BEGIN:VEVENT
UID:37@historischerverein-sh.ch
DTSTART;TZID=Europe/Zurich:20251111T193000
DTEND;TZID=Europe/Zurich:20251111T210000
DTSTAMP:20251013T082646Z
URL:https://historischerverein-sh.ch/veranstaltungen/2025-11-11/
SUMMARY:Vortrag: Mehr sehen\, mehr verstehen – Eintauchen in die Geschich
 te mit generativer KI
DESCRIPTION:Vortrag von Prof. Dr. Felix Maier\, Universität Zürich
CATEGORIES:Vortrag
LOCATION:Museum zu Allerheiligen\, Klosterstrasse 16\, 8200 Schaffhausen\, 
 Schweiz
X-APPLE-STRUCTURED-LOCATION;VALUE=URI;X-ADDRESS=Klosterstrasse 16\, Schaffh
 ausen\, 8200\, Schweiz;X-APPLE-RADIUS=100;X-TITLE=Museum zu Allerheiligen:
 geo:0,0
END:VEVENT
BEGIN:VTIMEZONE
TZID:Europe/Zurich
X-LIC-LOCATION:Europe/Zurich
BEGIN:STANDARD
DTSTART:20251026T020000
TZOFFSETFROM:+0200
TZOFFSETTO:+0100
TZNAME:CET
END:STANDARD
END:VTIMEZONE
END:VCALENDAR