BEGIN:VCALENDAR
VERSION:2.0
PRODID:-//wp-events-plugin.com//7.2.3.1//EN
TZID:Europe/Zurich
X-WR-TIMEZONE:Europe/Zurich
BEGIN:VEVENT
UID:43@historischerverein-sh.ch
DTSTART;TZID=Europe/Zurich:20251031T183000
DTEND;TZID=Europe/Zurich:20251031T200000
DTSTAMP:20251023T083819Z
URL:https://historischerverein-sh.ch/veranstaltungen/2025-10-31/
SUMMARY:Workshop: Schaffhauser Personenportal
DESCRIPTION:Gemeinsam ergänzen wir Daten für das Personenportal\, tausche
 n uns aus und helfen einander. Mit kleiner Verpflegung und Getränken.
CATEGORIES:Workshop
LOCATION:Stadtbibliothek\, Münsterplatz 1\, 8200 Schaffhausen\, Schweiz
X-APPLE-STRUCTURED-LOCATION;VALUE=URI;X-ADDRESS=Münsterplatz 1\, Schaffhau
 sen\, 8200\, Schweiz;X-APPLE-RADIUS=100;X-TITLE=Stadtbibliothek:geo:0,0
END:VEVENT
BEGIN:VTIMEZONE
TZID:Europe/Zurich
X-LIC-LOCATION:Europe/Zurich
BEGIN:STANDARD
DTSTART:20251026T020000
TZOFFSETFROM:+0200
TZOFFSETTO:+0100
TZNAME:CET
END:STANDARD
END:VTIMEZONE
END:VCALENDAR