BEGIN:VCALENDAR
VERSION:2.0
PRODID:-//wp-events-plugin.com//7.2.3.1//EN
TZID:Europe/Zurich
X-WR-TIMEZONE:Europe/Zurich
BEGIN:VEVENT
UID:34@historischerverein-sh.ch
DTSTART;TZID=Europe/Zurich:20251014T193000
DTEND;TZID=Europe/Zurich:20251014T210000
DTSTAMP:20251013T082701Z
URL:https://historischerverein-sh.ch/veranstaltungen/2025-10-14/
SUMMARY:Vortrag: Kleines Geld\, grosses Geld
DESCRIPTION:Vortrag von Prof. Dr. Valentin Groebner\, Universität Luzern
CATEGORIES:Vortrag
LOCATION:Museum zu Allerheiligen\, Klosterstrasse 16\, 8200 Schaffhausen\, 
 Schweiz
X-APPLE-STRUCTURED-LOCATION;VALUE=URI;X-ADDRESS=Klosterstrasse 16\, Schaffh
 ausen\, 8200\, Schweiz;X-APPLE-RADIUS=100;X-TITLE=Museum zu Allerheiligen:
 geo:0,0
END:VEVENT
BEGIN:VTIMEZONE
TZID:Europe/Zurich
X-LIC-LOCATION:Europe/Zurich
BEGIN:DAYLIGHT
DTSTART:20250330T030000
TZOFFSETFROM:+0100
TZOFFSETTO:+0200
TZNAME:CEST
END:DAYLIGHT
END:VTIMEZONE
END:VCALENDAR