BEGIN:VCALENDAR
VERSION:2.0
PRODID:-//wp-events-plugin.com//7.2.3.1//EN
TZID:Europe/Zurich
X-WR-TIMEZONE:Europe/Zurich
BEGIN:VEVENT
UID:36@historischerverein-sh.ch
DTSTART;TZID=Europe/Zurich;VALUE=DATE:20250908
DTEND;TZID=Europe/Zurich;VALUE=DATE:20250909
DTSTAMP:20250811T085725Z
URL:https://historischerverein-sh.ch/veranstaltungen/2025-09-08/
SUMMARY:Exkursion: Hohenzollernschloss: Vichy Führung – Petain schläft 
 in meinem Bett
DESCRIPTION:AUSGEBUCHT! Die Exkursion ist ausgebucht.\n\nReiseleiter: Alfre
 d Bachmann und Thomas Jaquet\n\nIm April vor 80 Jahren endete mit der Abre
 ise von Philippe Pétain aus Sigmaringen auch die Existenz des umstrittene
 n Vichy-Regimes.\nWir lassen uns in einer Sonderführung im Hohenzollernsc
 hloss in dieses 8-monatige «Exil» zurückversetzen. Gleichzeitig schlage
 n wir den Bogen zwischen dem Besuch in Verdun in diesem und Vicky im komme
 nden Frühling. Nach dem gemeinsamen Mittagessen haben Sie die Wahl zwisch
 en einer Stadtführung oder dem freien Aufenthalt in Sigmaringen.\nHier fi
 nden Sie das detaillierte Programm/Anmeldeformular.
CATEGORIES:Exkursion
END:VEVENT
BEGIN:VTIMEZONE
TZID:Europe/Zurich
X-LIC-LOCATION:Europe/Zurich
BEGIN:DAYLIGHT
DTSTART:20250330T030000
TZOFFSETFROM:+0100
TZOFFSETTO:+0200
TZNAME:CEST
END:DAYLIGHT
END:VTIMEZONE
END:VCALENDAR