BEGIN:VCALENDAR
VERSION:2.0
PRODID:-//wp-events-plugin.com//7.2.3.1//EN
TZID:Europe/Zurich
X-WR-TIMEZONE:Europe/Zurich
BEGIN:VEVENT
UID:20@historischerverein-sh.ch
DTSTART;TZID=Europe/Zurich;VALUE=DATE:20250423
DTEND;TZID=Europe/Zurich;VALUE=DATE:20250428
DTSTAMP:20250226T084241Z
URL:https://historischerverein-sh.ch/veranstaltungen/2025-04-23/
SUMMARY:Exkursion: Champagne – Geschichte und Genuss
DESCRIPTION:Das detaillierte Programm und ein Anmeldeformular wird unseren 
 Mitgliedern Ende November 2024 zugestellt.
CATEGORIES:Exkursion
END:VEVENT
BEGIN:VTIMEZONE
TZID:Europe/Zurich
X-LIC-LOCATION:Europe/Zurich
BEGIN:DAYLIGHT
DTSTART:20250330T030000
TZOFFSETFROM:+0100
TZOFFSETTO:+0200
TZNAME:CEST
END:DAYLIGHT
END:VTIMEZONE
END:VCALENDAR