BEGIN:VCALENDAR
VERSION:2.0
PRODID:-//wp-events-plugin.com//7.2.3.1//EN
TZID:Europe/Zurich
X-WR-TIMEZONE:Europe/Zurich
BEGIN:VEVENT
UID:27@historischerverein-sh.ch
DTSTART;TZID=Europe/Zurich:20250326T200000
DTEND;TZID=Europe/Zurich:20250326T213000
DTSTAMP:20250303T215924Z
URL:https://historischerverein-sh.ch/veranstaltungen/2025-03-26/
SUMMARY:Vortrag: Die Eidgenossenschaft – Friedensinsel und Friedensstif
 terin im Lauf der Jahrhunderte?
DESCRIPTION:
CATEGORIES:Vortrag
LOCATION:Rathauslaube\, Rathausbogen 10\, 8200 Schaffhausen\, Schweiz
X-APPLE-STRUCTURED-LOCATION;VALUE=URI;X-ADDRESS=Rathausbogen 10\, Schaffhau
 sen\, 8200\, Schweiz;X-APPLE-RADIUS=100;X-TITLE=Rathauslaube:geo:0,0
END:VEVENT
BEGIN:VTIMEZONE
TZID:Europe/Zurich
X-LIC-LOCATION:Europe/Zurich
BEGIN:STANDARD
DTSTART:20241027T020000
TZOFFSETFROM:+0200
TZOFFSETTO:+0100
TZNAME:CET
END:STANDARD
END:VTIMEZONE
END:VCALENDAR