BEGIN:VCALENDAR
VERSION:2.0
PRODID:-//wp-events-plugin.com//7.2.3.1//EN
TZID:Europe/Zurich
X-WR-TIMEZONE:Europe/Zurich
BEGIN:VEVENT
UID:29@historischerverein-sh.ch
DTSTART;TZID=Europe/Zurich:20250111T090000
DTEND;TZID=Europe/Zurich:20250111T120000
DTSTAMP:20241103T215339Z
URL:https://historischerverein-sh.ch/veranstaltungen/2025-01-11/
SUMMARY:Stammtisch: Schaffhauser Personenportal
DESCRIPTION:Gemeinsam ergänzen wir Daten für das neue Personenportal\, t
 auschen uns aus und helfen einander. Es gibt Kaffee und Gipfeli. Es ist ke
 ine Anmeldung notwendig\, du kannst kommen und gehen\, wann du willst. Bri
 ng deinen Laptop mit\, wenn du Daten bearbeiten möchtest.\n\nWeitere Info
 s findest du direkt auf dem Schaffhauser Personenportal
ATTACH;FMTTYPE=image/jpeg:https://historischerverein-sh.ch/wp-content/uplo
 ads/Biografische_Ressourcen.jpg
CATEGORIES:Stammtisch
LOCATION:Stadtbibliothek\, Münsterplatz 1\, 8200 Schaffhausen\, Schweiz
X-APPLE-STRUCTURED-LOCATION;VALUE=URI;X-ADDRESS=Münsterplatz 1\, Schaffhau
 sen\, 8200\, Schweiz;X-APPLE-RADIUS=100;X-TITLE=Stadtbibliothek:geo:0,0
END:VEVENT
BEGIN:VTIMEZONE
TZID:Europe/Zurich
X-LIC-LOCATION:Europe/Zurich
BEGIN:STANDARD
DTSTART:20241027T020000
TZOFFSETFROM:+0200
TZOFFSETTO:+0100
TZNAME:CET
END:STANDARD
END:VTIMEZONE
END:VCALENDAR