BEGIN:VCALENDAR
VERSION:2.0
PRODID:-//wp-events-plugin.com//7.2.3.1//EN
TZID:Europe/Zurich
X-WR-TIMEZONE:Europe/Zurich
BEGIN:VEVENT
UID:26@historischerverein-sh.ch
DTSTART;TZID=Europe/Zurich:20241210T183000
DTEND;TZID=Europe/Zurich:20241210T200000
DTSTAMP:20240917T044232Z
URL:https://historischerverein-sh.ch/veranstaltungen/2024-12-10/
SUMMARY:Vortrag: Grosse Pferde\, kleine Hunde – Mit der Archäozoologie a
 uf der Spur keltischer Viehwirtschaft im Oppidum Altenburg-Rheinau
DESCRIPTION:Der Vortrag beginnt bereits um 18.30 Uhr!\n\nVeranstaltung in Z
 usammenarbeit mit dem Museumsverein Schaffhausen.
CATEGORIES:Vortrag
LOCATION:Museum zu Allerheiligen\, Klosterstrasse 16\, 8200 Schaffhausen\, 
 Schweiz
X-APPLE-STRUCTURED-LOCATION;VALUE=URI;X-ADDRESS=Klosterstrasse 16\, Schaffh
 ausen\, 8200\, Schweiz;X-APPLE-RADIUS=100;X-TITLE=Museum zu Allerheiligen:
 geo:0,0
END:VEVENT
BEGIN:VTIMEZONE
TZID:Europe/Zurich
X-LIC-LOCATION:Europe/Zurich
BEGIN:STANDARD
DTSTART:20241027T020000
TZOFFSETFROM:+0200
TZOFFSETTO:+0100
TZNAME:CET
END:STANDARD
END:VTIMEZONE
END:VCALENDAR