BEGIN:VCALENDAR
VERSION:2.0
PRODID:-//wp-events-plugin.com//7.2.3.1//EN
TZID:Europe/Zurich
X-WR-TIMEZONE:Europe/Zurich
BEGIN:VEVENT
UID:32@historischerverein-sh.ch
DTSTART;TZID=Europe/Zurich:20241208T160000
DTEND;TZID=Europe/Zurich:20241208T173000
DTSTAMP:20241105T181940Z
URL:https://historischerverein-sh.ch/veranstaltungen/2024-12-08/
SUMMARY:Vernissage: Vernissage Band 96 der Schaffhauser Beiträge zur Gesch
 ichte
DESCRIPTION:Treffpunkt vor dem Haus zum Weissen Adler in Stein am Rhein (Ob
 erstadt 1).\nProgramm\n\n 	Erläuterungen zur Fassadenmalerei durch Felix 
 Graf\n 	Verschiebung in den Windler-Saal\n 	Buchvorstellung im Beisein der
  Autoren\n 	Apéro\n
CATEGORIES:Vernissage
END:VEVENT
BEGIN:VTIMEZONE
TZID:Europe/Zurich
X-LIC-LOCATION:Europe/Zurich
BEGIN:STANDARD
DTSTART:20241027T020000
TZOFFSETFROM:+0200
TZOFFSETTO:+0100
TZNAME:CET
END:STANDARD
END:VTIMEZONE
END:VCALENDAR