BEGIN:VCALENDAR
VERSION:2.0
PRODID:-//wp-events-plugin.com//7.2.3.1//EN
TZID:Europe/Zurich
X-WR-TIMEZONE:Europe/Zurich
BEGIN:VEVENT
UID:23@historischerverein-sh.ch
DTSTART;TZID=Europe/Zurich:20241117T083000
DTEND;TZID=Europe/Zurich:20241117T173000
DTSTAMP:20241104T214929Z
URL:https://historischerverein-sh.ch/veranstaltungen/2024-11-17/
SUMMARY:Wanderung: Jüdisches Leben in Gailingen und Randegg
DESCRIPTION:Programm\nÄnderungen vorbehalten\n\n 	8.49 Uhr: Abfahrt ab Sch
 affhausen\, 9.03 Uhr Ankunft in Diessenhofen\n 	Wanderung nach Gailingen (
 ca. 30 Min.)\n 	9.30 Uhr: Führung "Geschichte und Geschichten" durch das 
 ehemals jüdische Gailingen (2h 30 Min.)\n 	12.00 Uhr: Mittagessen in Gail
 ingen\n 	13.30 Uhr: Wanderung zum jüdischen Friedhof Gailingen (ca. 20 Mi
 n.)\n 	13.50 Uhr: Besichtigung jüdischer Friedhof Gailingen\n 	14.15 Uhr:
  Wanderung (ca. 1h)\n 	15.15 Uhr: Besichtigung jüdischer Friedhof Randegg
 \n 	15.45 Uhr: Wanderung nach Bietingen (ca. 1h)\n 	16.43 Uhr: Abfahrt ab 
 Bietingen\,  16:54 Uhr Ankunft in Schaffhausen\n\nKosten\nDie Kosten rich
 ten sich nach Ihren Bedürfnissen und Wünschen (Bahnreise\, Mittagessen)\
 , die Sie bei der Anmeldung angeben können. Für die Teilnahme fallen zud
 em Grundkosten von CHF 20.00 an für Führungen\, Administration\, etc.\n
 Anmeldung\nDie Anmeldefrist ist am 03.11.2024 abgelaufen.
CATEGORIES:Wanderung
END:VEVENT
BEGIN:VTIMEZONE
TZID:Europe/Zurich
X-LIC-LOCATION:Europe/Zurich
BEGIN:STANDARD
DTSTART:20241027T020000
TZOFFSETFROM:+0200
TZOFFSETTO:+0100
TZNAME:CET
END:STANDARD
END:VTIMEZONE
END:VCALENDAR