BEGIN:VCALENDAR
VERSION:2.0
PRODID:-//wp-events-plugin.com//7.2.3.1//EN
TZID:Europe/Zurich
X-WR-TIMEZONE:Europe/Zurich
BEGIN:VEVENT
UID:5@historischerverein-sh.ch
DTSTART;TZID=Europe/Zurich:20241023T183000
DTEND;TZID=Europe/Zurich:20241023T203000
DTSTAMP:20241015T201205Z
URL:https://historischerverein-sh.ch/veranstaltungen/2024-10-23/
SUMMARY:Vortrag: Einer für Alle? – Nachdenken über Heinrich Moser
DESCRIPTION:Vortrag aus Anlass des 150. Todestages Heinrich Mosers\nGrusswo
 rt von Stadtrat Dr. Raphaël Rohner\nAnschliessend offeriert die Stadt Sch
 affhausen einen Apéro\n\nAuf Denkmälern wird Moser verehrt als „Förde
 rer der industriellen Entwicklung“ und „Erbauer“ der Schaffhauser Wa
 sserwerke. Aufgeführt werden aber auch sein „Weitblick“ und „Gemein
 sinn“. Darin deutet sich an\, dass es bei Moser um mehr ging\, als das b
 losse Realisieren von Projekten. Diesem "Mehr" nachzuspüren\, lohnt sich\
 , führt es doch zu Mosers Anfängen\, seinen ethisch-moralischen Grundsä
 tzen und seiner Auffassung darüber\, was einen guten Unternehmer und Schw
 eizer ausmacht.\n\nEine Veranstaltung des Historischen Vereins Schaffhause
 n. In Zusammenarbeit mit dem Museum zu Allerheiligen\, dem Museumsverein S
 chaffhausen und dem Moser Familienmuseum Charlottenfels.
CATEGORIES:Vortrag
LOCATION:Rathauslaube\, Rathausbogen 10\, 8200 Schaffhausen\, Schweiz
X-APPLE-STRUCTURED-LOCATION;VALUE=URI;X-ADDRESS=Rathausbogen 10\, Schaffhau
 sen\, 8200\, Schweiz;X-APPLE-RADIUS=100;X-TITLE=Rathauslaube:geo:0,0
END:VEVENT
BEGIN:VTIMEZONE
TZID:Europe/Zurich
X-LIC-LOCATION:Europe/Zurich
BEGIN:DAYLIGHT
DTSTART:20240331T030000
TZOFFSETFROM:+0100
TZOFFSETTO:+0200
TZNAME:CEST
END:DAYLIGHT
END:VTIMEZONE
END:VCALENDAR