BEGIN:VCALENDAR
VERSION:2.0
PRODID:-//wp-events-plugin.com//7.2.3.1//EN
TZID:Europe/Zurich
X-WR-TIMEZONE:Europe/Zurich
BEGIN:VEVENT
UID:1@historischerverein-sh.ch
DTSTART;TZID=Europe/Zurich:20241008T193000
DTEND;TZID=Europe/Zurich:20241008T210000
DTSTAMP:20240930T110338Z
URL:https://historischerverein-sh.ch/veranstaltungen/2024-10-08/
SUMMARY:Vortrag: Der mittelalterliche Bodenseeraum als Wirtschaftsraum zwis
 chen Alpen und Rheinfall
DESCRIPTION:Im hohen Mittelalter bildete sich rund um den Bodensee ein einh
 eitlicher Wirtschaftsraum aus. Seine Grundlage bildete das Textilgewerbe\,
  dessen Erzeugnisse in den Mittelmeerraum exportiert wurden: zunächst die
  Leinwand\, vom 14. Jahrhundert an der Barchent\, ein Mischgewebe aus Lein
 wand und Baumwolle. Dem Wirtschaftsraum entsprach ein Währungsraum\, in d
 em eine Sorte silberner Pfennige zirkulierte\, deren Standard in Konstanz 
 gesetzt wurde und die auch in Schaffhausen geprägt wurden. Die Stadt Scha
 ffhausen war im Hochmittelalter ein selbstverständlicher Bestandteil dies
 es Wirtschaftsraums am Bodensee und hatte Anteil am Textilhandel. Durch ih
 re Lage am Westrand war sie zugleich mit den rheinabwärts gelegenen Gegen
 den und der Eidgenossenschaft verbunden\, den Zielgebieten des Schaffhause
 r Salzhandels. Der Vortrag begleitet die Sonderausstellung „Mittelalter 
 am Bodensee – Wirtschaftsraum zwischen Alpen und Rheinfall“ im Museum 
 zu Allerheiligen Schaffhausen.
CATEGORIES:Vortrag
LOCATION:Museum zu Allerheiligen\, Klosterstrasse 16\, 8200 Schaffhausen\, 
 Schweiz
X-APPLE-STRUCTURED-LOCATION;VALUE=URI;X-ADDRESS=Klosterstrasse 16\, Schaffh
 ausen\, 8200\, Schweiz;X-APPLE-RADIUS=100;X-TITLE=Museum zu Allerheiligen:
 geo:0,0
END:VEVENT
BEGIN:VTIMEZONE
TZID:Europe/Zurich
X-LIC-LOCATION:Europe/Zurich
BEGIN:DAYLIGHT
DTSTART:20240331T030000
TZOFFSETFROM:+0100
TZOFFSETTO:+0200
TZNAME:CEST
END:DAYLIGHT
END:VTIMEZONE
END:VCALENDAR