BEGIN:VCALENDAR
VERSION:2.0
PRODID:-//wp-events-plugin.com//7.2.3.1//EN
TZID:Europe/Zurich
X-WR-TIMEZONE:Europe/Zurich
BEGIN:VEVENT
UID:4@historischerverein-sh.ch
DTSTART;TZID=Europe/Zurich:20240414T140000
DTEND;TZID=Europe/Zurich:20240414T153000
DTSTAMP:20240726T203034Z
URL:https://historischerverein-sh.ch/veranstaltungen/2024-04-14/
SUMMARY:Vortrag: Kurzvorträge der museumsnahen Vereine
DESCRIPTION:Imthurneum – Kunstbetrachtungen im 19. Jahrhundert\, Andreas 
 Schiendorfer\n«Used To Be My Home Too» – Zum naturwissenschaftlichen U
 nterbau von Marc Lees Kunstwerk\, Michèle Büttner und Urs Weibel\nEiszei
 tkunst – von den Anfängen zur Abstraktion\, Florian Ter-Nedden\nOhne Ve
 reine kein Museum – Die Sammlung des Historisch-Antiquarischen Vereins\,
  Adrian Bringolf
CATEGORIES:Vortrag
LOCATION:Museum zu Allerheiligen\, Klosterstrasse 16\, 8200 Schaffhausen\, 
 Schweiz
X-APPLE-STRUCTURED-LOCATION;VALUE=URI;X-ADDRESS=Klosterstrasse 16\, Schaffh
 ausen\, 8200\, Schweiz;X-APPLE-RADIUS=100;X-TITLE=Museum zu Allerheiligen:
 geo:0,0
END:VEVENT
BEGIN:VTIMEZONE
TZID:Europe/Zurich
X-LIC-LOCATION:Europe/Zurich
BEGIN:DAYLIGHT
DTSTART:20240331T030000
TZOFFSETFROM:+0100
TZOFFSETTO:+0200
TZNAME:CEST
END:DAYLIGHT
END:VTIMEZONE
END:VCALENDAR