BEGIN:VCALENDAR
VERSION:2.0
PRODID:-//wp-events-plugin.com//7.2.3.1//EN
TZID:Europe/Zurich
X-WR-TIMEZONE:Europe/Zurich
BEGIN:VEVENT
UID:11@historischerverein-sh.ch
DTSTART;TZID=Europe/Zurich:20231024T193000
DTEND;TZID=Europe/Zurich:20231024T210000
DTSTAMP:20240727T003057Z
URL:https://historischerverein-sh.ch/veranstaltungen/2023-10-24/
SUMMARY:Vortrag: Europapolitischer Schicksalsentscheid – Diplomatische Do
 kumente der Schweiz zur EWR-Abstimmung vom 6. Dezember 1992
DESCRIPTION:
CATEGORIES:Vortrag
LOCATION:Museum zu Allerheiligen\, Klosterstrasse 16\, 8200 Schaffhausen\, 
 Schweiz
X-APPLE-STRUCTURED-LOCATION;VALUE=URI;X-ADDRESS=Klosterstrasse 16\, Schaffh
 ausen\, 8200\, Schweiz;X-APPLE-RADIUS=100;X-TITLE=Museum zu Allerheiligen:
 geo:0,0
END:VEVENT
BEGIN:VTIMEZONE
TZID:Europe/Zurich
X-LIC-LOCATION:Europe/Zurich
BEGIN:DAYLIGHT
DTSTART:20230326T030000
TZOFFSETFROM:+0100
TZOFFSETTO:+0200
TZNAME:CEST
END:DAYLIGHT
END:VTIMEZONE
END:VCALENDAR