BEGIN:VCALENDAR
VERSION:2.0
PRODID:-//wp-events-plugin.com//7.2.3.1//EN
TZID:Europe/Zurich
X-WR-TIMEZONE:Europe/Zurich
BEGIN:VEVENT
UID:2@historischerverein-sh.ch
DTSTART;TZID=Europe/Zurich:20231021T073000
DTEND;TZID=Europe/Zurich:20231021T173000
DTSTAMP:20240726T202751Z
URL:https://historischerverein-sh.ch/veranstaltungen/2023-10-21/
SUMMARY:Exkursion: Wo Geschichte gelagert wird – Besuch im Sammlungszentr
 um des Schweizerischen Nationalmuseums
DESCRIPTION:\nIm Sammlungszentrum des Schweizerischen Nationalmuseums in Af
 foltern am Albis werden tausende Objekte mit einem Bezug zur Geschichte de
 r Schweiz von der Steinzeit bis in die Gegenwart aufbewahrt\, dokumentiert
 \, erforscht und restauriert. Die Führung gibt einen Einblick in einen wi
 chtigen Aufgabenbereich von Museen\, der von aussen normalerweise kaum sic
 htbar ist. Am Nachmittag werden wir im Landesmuseum in Zürich die neue So
 nderausstellung «Sprachenland Schweiz» besuchen. Der Besuch dort wird in
 dividuell mit Audioguides stattfinden\, mit denen Sie das Themen auch akus
 tisch erfahren können.\n\n\n\nProgramm\n\n\n\nWeitere Details folgen\, Ä
 nderungen vorbehalten.\n\n\n\n\n\n\n7.35 Uhr: Treffpunkt Bahnhof Schaffhau
 sen\, Gleis 5\n\n\n\n\n\n\n\n\n\n7.47 Uhr: Abfahrt ab Schaffhausen\, 9.07 
 Uhr Ankunft in Affoltern am Albis\n\n\n\n\n\n\n\n\n\nFussmarsch zum Sammlu
 ngszentrum (ca. 15 Minuten)\n\n\n\n\n\n\n\n\n\n9.30 Uhr: Führung durch da
 s Sammlungszentrum mit Laura Mosimann\, Leiterin Objektzentrum\n\n\n\n\n\n
 \n\n\n\nFussmarsch zum Restaurant (ca. 25 Minuten)\n\n\n\n\n\n\n\n\n\n11.3
 0 bis 13.30 Uhr: Mittagessen im Restaurant Central in Affoltern\n\n\n\n\n\
 n\n\n\n\nFussmarsch zum Bahnhof Affoltern (ca. 15 Minuten)\n\n\n\n\n\n\n\n
 \n\n13.52 Uhr: Abfahrt ab Affoltern (S5)\, 14.21 Uhr Ankunft in Zürich HB
 \n\n\n\n\n\n\n\n\n\nFussmarsch zum Landesmuseum (ca. 5 Minuten)\n\n\n\n\n\
 n\n\n\n\n14.30 bis 16.30 Uhr Besuch der Ausstellung «Sprachenland Schweiz
 » im Landesmuseum in Zürich. Die Ausstellung beinhaltet eine immersive A
 udiotour mit Kopfhörern. Wer möchte\, kann auch die anderen Ausstellunge
 n ansehen.\n\n\n\n\n\n\n\n\n\n16.37 Uhr: Abfahrt ab Zürich\, 17.13 Ankunf
 t in Schaffhausen\n\n\n\n\n\n\nKosten\n\n\n\nDie Kosten richten sich nach 
 Ihren Bedürfnissen und Wünschen (Bahnreise\, Mittagessen\, Eintritte)\, 
 die Sie bei der Anmeldung angeben können. Für die Teilnahme fallen zudem
  Grundkosten von CHF 20.00 an für Führungen\, Administration\, etc.
CATEGORIES:Exkursion
END:VEVENT
BEGIN:VTIMEZONE
TZID:Europe/Zurich
X-LIC-LOCATION:Europe/Zurich
BEGIN:DAYLIGHT
DTSTART:20230326T030000
TZOFFSETFROM:+0100
TZOFFSETTO:+0200
TZNAME:CEST
END:DAYLIGHT
END:VTIMEZONE
END:VCALENDAR