BEGIN:VCALENDAR
VERSION:2.0
PRODID:-//wp-events-plugin.com//7.2.3.1//EN
TZID:Europe/Zurich
X-WR-TIMEZONE:Europe/Zurich
BEGIN:VEVENT
UID:12@historischerverein-sh.ch
DTSTART;TZID=Europe/Zurich:20230916T174500
DTEND;TZID=Europe/Zurich:20230916T191500
DTSTAMP:20240727T003316Z
URL:https://historischerverein-sh.ch/veranstaltungen/2023-09-16/
SUMMARY:Vortrag: 1848: Eine schwierige Geburt – Hintergründe und Herausf
 orderungen der Bundesstaatsgründung
DESCRIPTION:In Zusammenarbeit mit dem Kanton Schaffhausen aus Anlass des 17
 5-jährigen Jubiläums der Bundesverfassung. Im Anschluss offeriert der Ka
 nton Schaffhausen einen kleinen Apéro.
CATEGORIES:Vortrag
LOCATION:Rathauslaube\, Rathausbogen 10\, 8200 Schaffhausen\, Schweiz
X-APPLE-STRUCTURED-LOCATION;VALUE=URI;X-ADDRESS=Rathausbogen 10\, Schaffhau
 sen\, 8200\, Schweiz;X-APPLE-RADIUS=100;X-TITLE=Rathauslaube:geo:0,0
END:VEVENT
BEGIN:VTIMEZONE
TZID:Europe/Zurich
X-LIC-LOCATION:Europe/Zurich
BEGIN:DAYLIGHT
DTSTART:20230326T030000
TZOFFSETFROM:+0100
TZOFFSETTO:+0200
TZNAME:CEST
END:DAYLIGHT
END:VTIMEZONE
END:VCALENDAR