BEGIN:VCALENDAR
VERSION:2.0
PRODID:-//wp-events-plugin.com//7.2.3.1//EN
TZID:Europe/Zurich
X-WR-TIMEZONE:Europe/Zurich
BEGIN:VEVENT
UID:13@historischerverein-sh.ch
DTSTART;TZID=Europe/Zurich;VALUE=DATE:20230520
DTEND;TZID=Europe/Zurich;VALUE=DATE:20230521
DTSTAMP:20240727T010246Z
URL:https://historischerverein-sh.ch/veranstaltungen/2023-05-20/
SUMMARY:Exkursion: Der Weg der Wiedertäufer über den Randen
DESCRIPTION:Auf einer Wanderung von Merishausen nach Schleitheim bewegen wi
 r uns auf den Spuren der Wiedertäufer. Der Historiker und Lehrer Florian 
 Hadorn aus Schaffhausen wird uns an mehreren Stationen erläutern\, woher 
 die Bewegung kam\, wieso sich die Täufer auf dem Randen bewegten und anha
 nd ausgewählter Quellen Einblick in das Leben der aufgrund ihres Glaubens
  verfolgten Menschen geben.\n\nDie Wanderung am Auffahrtswochenende soll a
 uch eine Möglichkeit bieten\, sich in lockerer Atmosphäre mit anderen Ge
 schichtsinteressierten auszutauschen.\n\nMehr Informationen zum Täuferweg
  sind auf www.natourpark.ch zu finden.\nProgramm\n\n 	9.50 Uhr Abmarsch ab
  Merishausen\, Gemeindehaus\n 	ca. 2 Stunden Wanderung mit Halt bei der T
 äuferquelle\n 	ca. 12 Uhr Ankunft auf dem Zelgli und Mittagessen/Picknick
 \n 	14.00 Uhr Abmarsch nach Schleitheim\n 	ca. 2 Stunden Wanderung mit Hal
 t bei der Täuferhütte\n 	ca. 16 Uhr Ankunft im Museum Schleitheimertal u
 nd Besichtigung des Schleitheimer Bekenntnisses mit Willi Bächtold\n\nDie
  Anreise nach Merishausen und Abreise ab Schleitheim geschieht individuell
 . Empfohlen wird:\n\n 	9.35 Uhr Bus 23 ab Schaffhausen\, Bahnhof\, 9.47 An
 kunft in Merishausen\n 	17.04 Uhr Bus 21 ab Schleitheim\, Gemeindehaus\, 1
 7.38 Ankunft in Schaffhausen\n\nKosten\nUnkostenbeitrag pro Person Fr. 20.
 - für die Führung\, ein Glas Wein zum Apéro auf dem Zelgli und den Eint
 ritt ins Museum Schleitheimertal. Der Betrag wird in der Mittagspause bar 
 eingezogen\, bitte das Geld passend bereit halten.\nMittagessen\nDas Mitta
 gessen muss selbst mitgebracht werden. Für ein Grillfeuer wird gesorgt.\n
 Es stehen folgende Getränke inkl. Gläser zur Verfügung:\n\n 	Mineral/Sh
 orley 5 dl.: Fr. 4.-\n 	Weiss-/Rotwein 5 dl.: Fr. 18.-\n\nSchlechtwetter-A
 lternative\nBei schlechtem Wetter wird die Wanderung nicht durchgeführt u
 nd ggf. im Herbst erneut angeboten. Falls eine Verschiebung notwendig ist\
 , erhalten Sie bis spätestens am Vortrag um 14 Uhr per E-Mail eine entspr
 echende Nachricht.
CATEGORIES:Exkursion
END:VEVENT
BEGIN:VTIMEZONE
TZID:Europe/Zurich
X-LIC-LOCATION:Europe/Zurich
BEGIN:DAYLIGHT
DTSTART:20230326T030000
TZOFFSETFROM:+0100
TZOFFSETTO:+0200
TZNAME:CEST
END:DAYLIGHT
END:VTIMEZONE
END:VCALENDAR