BEGIN:VCALENDAR
VERSION:2.0
PRODID:-//wp-events-plugin.com//7.2.3.1//EN
TZID:Europe/Zurich
X-WR-TIMEZONE:Europe/Zurich
BEGIN:VEVENT
UID:15@historischerverein-sh.ch
DTSTART;TZID=Europe/Zurich:20230329T200000
DTEND;TZID=Europe/Zurich:20230329T213000
DTSTAMP:20240727T004644Z
URL:https://historischerverein-sh.ch/veranstaltungen/2023-03-29/
SUMMARY:Vortrag: Umkämpfte Geschichte – Zu den historischen Hintergründ
 en des russisch-ukrainischen Krieges
DESCRIPTION:
CATEGORIES:Vortrag
LOCATION:Rathauslaube\, Rathausbogen 10\, 8200 Schaffhausen\, Schweiz
X-APPLE-STRUCTURED-LOCATION;VALUE=URI;X-ADDRESS=Rathausbogen 10\, Schaffhau
 sen\, 8200\, Schweiz;X-APPLE-RADIUS=100;X-TITLE=Rathauslaube:geo:0,0
END:VEVENT
BEGIN:VTIMEZONE
TZID:Europe/Zurich
X-LIC-LOCATION:Europe/Zurich
BEGIN:DAYLIGHT
DTSTART:20230326T030000
TZOFFSETFROM:+0100
TZOFFSETTO:+0200
TZNAME:CEST
END:DAYLIGHT
END:VTIMEZONE
END:VCALENDAR