BEGIN:VCALENDAR
VERSION:2.0
PRODID:-//wp-events-plugin.com//7.2.3.1//EN
TZID:Europe/Zurich
X-WR-TIMEZONE:Europe/Zurich
BEGIN:VEVENT
UID:6@historischerverein-sh.ch
DTSTART;TZID=Europe/Zurich:20220924T073500
DTEND;TZID=Europe/Zurich:20220924T184500
DTSTAMP:20240727T005311Z
URL:https://historischerverein-sh.ch/veranstaltungen/2022-09-24/
SUMMARY:Exkursion: Kloster\, Schule\, Museum – Die Klöster Muri und Wett
 ingen im Wandel
DESCRIPTION:Die beiden Aargauer Klöster Muri und Wettingen haben architekt
 onisch und historisch viel zu bieten. Die ehemalige Benediktinerabtei Muri
  geht auf eine habsburgische Gründung zurück. Bekannt ist sie heute vor 
 allem für ihre Barocke Klosterkirche in Form eines oktogonalen Zentralbau
 s\, aber auch den umfangreichen Zyklus von Glasgemälden aus dem 16. Jahrh
 undert im Kreuzgang. Mehr Informationen auf www.murikultur.ch\n\nDie Ziste
 rzienserabtei Wettingen wurde 200 Jahre nach Muri im Jahr 1227 gegründet.
  Die Barock ausgestattete Klosterkirche verfügt über ein kunstvoll gesch
 nitztes Chorgestühl. Der Kreuzgang ist ebenfalls mit zahlreichen Glasgem
 älden geschmückt\, darunter auch solche aus dem späten 13. Jahrhundert.
  Mehr Informationen auf www.museumaargau.ch\n\nBeide Klöster wurden 1841 
 im Aargauer Klosterstreit aufgehoben. Muri wird heute als Pflegeheim\, Mus
 eum und Kulturort genutzt\, Wettingen dient als Schule und ist neu teilwei
 se ebenfalls als Museum zugänglich.\nProgramm\n\n 	7.35 Uhr Treffpunkt Ba
 hnhof Schaffhausen\, Gleis 5\n 	7.47 Uhr Abfahrt ab Schaffhausen (IC 4)\, 
 9.19 Uhr Ankunft in Muri\n 	9.30 Uhr Führung durch das Kloster Muri\n 	ca
 . 11.15 Uhr Mittagessen im Adler Muri\n 	13.01 Uhr Weiterfahrt nach Wettin
 gen (S 25)\n 	14.30 Uhr Führung durch das Kloster Wettingen\n 	Zeit zur f
 reien Verfügung\, z.B. Kaffee &amp\; Kuchen im Sternen Kloster Wettingen 
 oder Besuch der Ausstellung "Glaube\, Macht\, Wissen"\n 	17.20 Uhr Abfahrt
  Bahnhof Wettingen (S 12)\, Umsteigen in Zürich\, Abfahrt 18.05 Uhr\, Ank
 unft in Schaffhausen 18.43 Uhr\n\nKosten\nDie Kosten richten sich nach Ihr
 en Bedürfnissen und Wünschen (Bahnreise\, Mittagessen\, Eintritte)\, die
  Sie bei der Anmeldung angeben können. Für die Teilnahme fallen zudem Gr
 undkosten von CHF 15.00 an für Führungen\, Administration\, etc.\n\nDie 
 Anmeldefrist ist am 9. September 2022 abgelaufen.
CATEGORIES:Exkursion
END:VEVENT
BEGIN:VTIMEZONE
TZID:Europe/Zurich
X-LIC-LOCATION:Europe/Zurich
BEGIN:DAYLIGHT
DTSTART:20220327T030000
TZOFFSETFROM:+0100
TZOFFSETTO:+0200
TZNAME:CEST
END:DAYLIGHT
END:VTIMEZONE
END:VCALENDAR